BEGIN:VCALENDAR
VERSION:2.0
PRODID:-//Tukios.com/
BEGIN:VEVENT
UID:05eea35f-8a8a-40e9-be96-a606028eeb1d@www.franklinfuneralhometexas.com
DTSTAMP:20260421T085427Z
DTSTART:20260430
SUMMARY:Interment
DESCRIPTION:
URL:https://www.franklinfuneralhometexas.com/obituaries/santiago-gonzales
LOCATION: 2012 3rd Street  Floresville TX 78114
GEO:29.126289;-98.145558
END:VEVENT
END:VCALENDAR