BEGIN:VCALENDAR
VERSION:2.0
PRODID:-//Tukios.com/
BEGIN:VEVENT
UID:c2698296-963e-4187-b922-e5e02364a411@www.franklinfuneralhometexas.com
DTSTAMP:20260421T084640Z
DTSTART:20260430T150000Z
DTEND:20260430T160000Z
SUMMARY:Mass
DESCRIPTION:
URL:https://www.franklinfuneralhometexas.com/obituaries/santiago-gonzales
LOCATION: 1009 Trail Street  Floresville TX 78114
GEO:29.1372434;-98.1628897
END:VEVENT
END:VCALENDAR