BEGIN:VCALENDAR
VERSION:2.0
PRODID:-//Tukios.com/
BEGIN:VEVENT
UID:be019bbc-6845-443d-9ca8-254f0f59904e@www.franklinfuneralhometexas.com
DTSTAMP:20260421T084931Z
DTSTART:20260430T000000Z
DTEND:20260430T010000Z
SUMMARY:Rosary
DESCRIPTION:
URL:https://www.franklinfuneralhometexas.com/obituaries/santiago-gonzales
LOCATION: 914 3rd St  Floresville TX 78114
GEO:29.1386396;-98.1629645
END:VEVENT
END:VCALENDAR