BEGIN:VCALENDAR
VERSION:2.0
PRODID:-//Tukios.com/
BEGIN:VEVENT
UID:38e170b9-1778-4d6c-9997-d9a0f1d9c962@www.franklinfuneralhometexas.com
DTSTAMP:20260421T085212Z
DTSTART:20260429T220000Z
DTEND:20260429T230000Z
SUMMARY:Visitation
DESCRIPTION:
URL:https://www.franklinfuneralhometexas.com/obituaries/santiago-gonzales
LOCATION: 914 3rd St  Floresville TX 78114
GEO:29.1386396;-98.1629645
END:VEVENT
END:VCALENDAR