BEGIN:VCALENDAR
VERSION:2.0
PRODID:-//Tukios.com/
BEGIN:VEVENT
UID:3e9e29a4-c423-474f-a95a-5de61640425b@www.franklinfuneralhometexas.com
DTSTAMP:20260421T222900Z
DTSTART:20260504T160000Z
DTEND:20260504T170000Z
SUMMARY:Funeral Service
DESCRIPTION:
URL:https://www.franklinfuneralhometexas.com/obituaries/ramon-b-pardo
LOCATION:Franklin Funeral Home 914 3rd St  Floresville TX 78114
GEO:29.1386396;-98.1629645
END:VEVENT
END:VCALENDAR