BEGIN:VCALENDAR
VERSION:2.0
PRODID:-//Tukios.com/
BEGIN:VEVENT
UID:0395f2d7-1fde-4d5b-b316-246acd6c69c9@www.franklinfuneralhometexas.com
DTSTAMP:20260421T222855Z
DTSTART:20260504T150000Z
DTEND:20260504T160000Z
SUMMARY:Visitation
DESCRIPTION:
URL:https://www.franklinfuneralhometexas.com/obituaries/ramon-b-pardo
LOCATION:Franklin Funeral Home 914 3rd St  Floresville TX 78114
GEO:29.1386396;-98.1629645
END:VEVENT
END:VCALENDAR